BEGIN:VCALENDAR
VERSION:2.0
PRODID:-//Ziber2013/
CALSCALE:GREGORIAN
BEGIN:VEVENT
UID:258838@https://www.deontdekkers.nl
DTSTART:20260505T000000
DTEND:20260505T235959
SUMMARY:Bevrijdingsdag – Blosse opvang gesloten op 5 mei 
DESCRIPTION:<p>Beste ouder\, </p><p>Op <b>5 mei vieren we Bevrijdingsdag</b>. Onze kinderopvanglocaties zijn <b>op deze dag gesloten</b>\, omdat dit een officiële vrije dag is volgens de <b>Cao Kinderopvang</b>. </p><p><b>Wat dit voor jou betekent:</b> </p><p>Je kind kan op 5 mei <b>niet naar de opvang komen</b>. </p><p>Sluitingen op officiële feestdagen worden in rekening gebracht en <b>komen in aanmerking voor kinderopvangtoeslag</b>. Neem je op deze dag regulier kinderopvang af? Dan ontvang je <b>service-uren</b> voor deze dag. Je kunt deze uren op een ander moment inzetten als je extra opvang nodig hebt. Inzet van service-uren vraag je aan in de ouderapp van Konnekt. </p><p>We wensen je alvast een fijne Bevrijdingsdag! </p><p>College van Bestuur Blosse   </p>
LOCATION:De Ontdekkers - OPVANG\, De Hucht 6\, 1851 ZC Heiloo
X-MICROSOFT-CDO-ALLDAYEVENT:TRUE
SEQUENCE:0
DTSTAMP:20260424T155009
END:VEVENT
END:VCALENDAR
