BEGIN:VCALENDAR
VERSION:2.0
PRODID:-//Ziber2013/
CALSCALE:GREGORIAN
BEGIN:VEVENT
UID:251782@https://www.deontdekkers.nl
DTSTART:20260514T000000
DTEND:20260515T235959
SUMMARY:Hemelvaart 14 en 15 mei 2025 vrij
DESCRIPTION:<p>Kinderen zijn vrij</p>
LOCATION:De Ontdekkers\, De Hucht 6\, 1851 ZC Heiloo
X-MICROSOFT-CDO-ALLDAYEVENT:TRUE
ATTACH;FMTTYPE=image/jpeg:/content/monsterGallery/ascensionday.png?width=1600&height=1200
SEQUENCE:0
DTSTAMP:20260422T154050
END:VEVENT
END:VCALENDAR
